BEGIN:VCALENDAR
VERSION:2.0
PRODID:-//wp-events-plugin.com//7.2.3.1//EN
TZID:Europe/London
X-WR-TIMEZONE:Europe/London
BEGIN:VEVENT
UID:7@pontefractsandalcastles.org.uk
DTSTART;TZID=Europe/London:20250323T140000
DTEND;TZID=Europe/London:20250323T151500
DTSTAMP:20250125T163413Z
URL:https://pontefractsandalcastles.org.uk/events/thomas-of-lancaster-sain
 t-or-sinner/
SUMMARY:Thomas of Lancaster - Saint or Sinner?
DESCRIPTION:On the 22nd March 1322\, Thomas of Lancaster\, the great baron 
 of Pontefract and the wealthiest man in the kingdom\, behind King Edward I
 I\, was executed on a hill overlooking his great fortress here at Pontefra
 ct. We will discuss the early life of Thomas\, how he became the leader of
  the opposition to Edward II and his ‘confidant' Gaveston\, and how for 
 a number of years\, Lancaster would be the ‘quasi’ ruler of England. H
 ow this all went wrong\, and what led to his ultimate demise and execution
  will be discussed.\n\nTickets can be booked at TicketSource.
CATEGORIES:Historical Talk at Pontefract Castle Visitor Centre
LOCATION:Pontefract Castle\, The Lodge Castle Chain\, Castle Garth\, Pontef
 ract\, England\, WF8 1QH\, United Kingdom
GEO:53.694483;-1.304266
X-APPLE-STRUCTURED-LOCATION;VALUE=URI;X-ADDRESS=The Lodge Castle Chain\, Ca
 stle Garth\, Pontefract\, England\, WF8 1QH\, United Kingdom;X-APPLE-RADIU
 S=100;X-TITLE=Pontefract Castle:geo:53.694483,-1.304266
END:VEVENT
BEGIN:VTIMEZONE
TZID:Europe/London
X-LIC-LOCATION:Europe/London
BEGIN:STANDARD
DTSTART:20241027T010000
TZOFFSETFROM:+0100
TZOFFSETTO:+0000
TZNAME:GMT
END:STANDARD
END:VTIMEZONE
END:VCALENDAR