BEGIN:VCALENDAR
VERSION:2.0
PRODID:-//wp-events-plugin.com//7.2.3.1//EN
TZID:Europe/London
X-WR-TIMEZONE:Europe/London
BEGIN:VEVENT
UID:9@pontefractsandalcastles.org.uk
DTSTART;TZID=Europe/London:20251130T140000
DTEND;TZID=Europe/London:20251130T151500
DTSTAMP:20251012T103351Z
URL:https://pontefractsandalcastles.org.uk/events/the-bloodiest-battle-on-
 english-soil/
SUMMARY:The Bloodiest Battle on English Soil?
DESCRIPTION:On a wintry Palm Sunday in 1461\, two great armies faced each o
 ther across Towton Vale with the future of the English throne at stake. Ch
 roniclers tell us that 80000 men faced each other that fateful day\, but i
 s that true?\n\nThe Battle of Towton has long gone down in history as the 
 bloodiest battle on English soil\, but new research is leading to differen
 t thinking as to its infamous role in English history. So\, was Towton the
  'greatest and bloodiest battle' on English soil\, or can another Yorkshir
 e conflict lay claim to that title?\n\nJoin us at Pontefract Castle to fin
 d out.
CATEGORIES:Historical Talk at Pontefract Castle Visitor Centre
LOCATION:Pontefract Castle Vistor Centre\, Pontefract Castle\, The Lodge Ca
 stle Chain\, Castle Garth\, Pontefract\, WF8 1QH\, United Kingdom
X-APPLE-STRUCTURED-LOCATION;VALUE=URI;X-ADDRESS=Pontefract Castle\, The Lod
 ge Castle Chain\, Castle Garth\, Pontefract\, WF8 1QH\, United Kingdom;X-A
 PPLE-RADIUS=100;X-TITLE=Pontefract Castle Vistor Centre:geo:0,0
END:VEVENT
BEGIN:VTIMEZONE
TZID:Europe/London
X-LIC-LOCATION:Europe/London
BEGIN:STANDARD
DTSTART:20251026T010000
TZOFFSETFROM:+0100
TZOFFSETTO:+0000
TZNAME:GMT
END:STANDARD
END:VTIMEZONE
END:VCALENDAR