BEGIN:VCALENDAR
VERSION:2.0
PRODID:-//wp-events-plugin.com//7.2.3.1//EN
TZID:Europe/London
X-WR-TIMEZONE:Europe/London
BEGIN:VEVENT
UID:8@pontefractsandalcastles.org.uk
DTSTART;TZID=Europe/London:20250913T110000
DTEND;TZID=Europe/London:20250913T133000
DTSTAMP:20250822T102857Z
URL:https://pontefractsandalcastles.org.uk/events/a-history-of-sandal-cast
 le-and-the-de-warennes/
SUMMARY:A History of Sandal Castle and the de Warennes
DESCRIPTION:NOTE: There are two talks\, one at 11:00am and the other at 1:3
 0pm.\n\nSandal Castle has often been overlooked when compared to its more 
 famous neighbour at Pontefract. However\, Sandal has a fascinating tale to
  tell in its own right: from its earliest incarnation under the first Earl
  of Surrey\, William de Warenne\; to becoming a key Yorkist stronghold in 
 the 15th Century\; to ownership being transferred to the Dukes of York. Th
 en\, like neighbouring Pontefract Castle\, the Civil War would lead to its
  demise.\n\nJoin us to hear how the castle developed through the centuries
 \, whilst learning some fascinating stories about key protagonists as we w
 alk around the ruins delving into its intriguing past.\n\n&nbsp\;
CATEGORIES:Tour at Sandal Castle
LOCATION:Sandal Castle\, Manygates Lane\, Wakefield\, England\, WF2 7DS\, U
 nited Kingdom
GEO:53.659648;-1.488725
X-APPLE-STRUCTURED-LOCATION;VALUE=URI;X-ADDRESS=Manygates Lane\, Wakefield\
 , England\, WF2 7DS\, United Kingdom;X-APPLE-RADIUS=100;X-TITLE=Sandal Cas
 tle:geo:53.659648,-1.488725
END:VEVENT
BEGIN:VTIMEZONE
TZID:Europe/London
X-LIC-LOCATION:Europe/London
BEGIN:DAYLIGHT
DTSTART:20250330T020000
TZOFFSETFROM:+0000
TZOFFSETTO:+0100
TZNAME:BST
END:DAYLIGHT
END:VTIMEZONE
END:VCALENDAR